BEGIN:VCALENDAR
VERSION:2.0
PRODID:-//SINDISSÉTIMA - Sindicato dos Servidores da 7ª Região da Justiça do Trabalho - ECPv6.15.1.1//NONSGML v1.0//EN
CALSCALE:GREGORIAN
METHOD:PUBLISH
X-WR-CALNAME:SINDISSÉTIMA - Sindicato dos Servidores da 7ª Região da Justiça do Trabalho
X-ORIGINAL-URL:https://sindissetima.org.br
X-WR-CALDESC:Eventos para SINDISSÉTIMA - Sindicato dos Servidores da 7ª Região da Justiça do Trabalho
REFRESH-INTERVAL;VALUE=DURATION:PT1H
X-Robots-Tag:noindex
X-PUBLISHED-TTL:PT1H
BEGIN:VTIMEZONE
TZID:America/Sao_Paulo
BEGIN:STANDARD
TZOFFSETFROM:-0200
TZOFFSETTO:-0300
TZNAME:-03
DTSTART:20190217T020000
END:STANDARD
END:VTIMEZONE
BEGIN:VTIMEZONE
TZID:America/Fortaleza
BEGIN:STANDARD
TZOFFSETFROM:-0300
TZOFFSETTO:-0300
TZNAME:-03
DTSTART:20200101T000000
END:STANDARD
END:VTIMEZONE
BEGIN:VEVENT
DTSTART;TZID=America/Sao_Paulo:20200306T080000
DTEND;TZID=America/Sao_Paulo:20200306T170000
DTSTAMP:20260423T205129
CREATED:20200130T175418Z
LAST-MODIFIED:20200130T175418Z
UID:24130-1583481600-1583514000@sindissetima.org.br
SUMMARY:Reunião Ordinária da Diretoria Executiva da Fenajufe
DESCRIPTION:
URL:https://sindissetima.org.br/event/reuniao-ordinaria-da-diretoria-executiva-da-fenajufe/
END:VEVENT
BEGIN:VEVENT
DTSTART;TZID=America/Sao_Paulo:20200219T150000
DTEND;TZID=America/Sao_Paulo:20200219T170000
DTSTAMP:20260423T205129
CREATED:20200204T141812Z
LAST-MODIFIED:20200204T141812Z
UID:24183-1582124400-1582131600@sindissetima.org.br
SUMMARY:Assembleia Geral Extraordinária - Edital 1.2020
DESCRIPTION:
URL:https://sindissetima.org.br/event/assembleia-geral-extraordinaria-edital-1-2020/
LOCATION:Av. Santos Dumont\, 3384 – Sala do Sindissétima\, Brasil
END:VEVENT
BEGIN:VEVENT
DTSTART;VALUE=DATE:20200208
DTEND;VALUE=DATE:20200209
DTSTAMP:20260423T205129
CREATED:20200130T180701Z
LAST-MODIFIED:20200130T180701Z
UID:24152-1581120000-1581206399@sindissetima.org.br
SUMMARY:30 ANOS DO SINDISSÉTIMA
DESCRIPTION:
URL:https://sindissetima.org.br/event/30-anos-do-sindissetima/
END:VEVENT
BEGIN:VEVENT
DTSTART;TZID=America/Fortaleza:20200128T150000
DTEND;TZID=America/Fortaleza:20200128T180000
DTSTAMP:20260423T205129
CREATED:20200130T174307Z
LAST-MODIFIED:20200130T174951Z
UID:24127-1580223600-1580234400@sindissetima.org.br
SUMMARY:1ª Reunião da Diretoria Executiva do Sindissétima - Biênio 2020/2021
DESCRIPTION:
URL:https://sindissetima.org.br/event/1a-reuniao-da-diretoria-executiva-do-sindissetima-bienio-2020-2021/
LOCATION:Av. Santos Dumont\, 3384 – Sala do Sindissétima\, Brasil
END:VEVENT
BEGIN:VEVENT
DTSTART;TZID=America/Sao_Paulo:20190614T080000
DTEND;TZID=America/Sao_Paulo:20190614T120000
DTSTAMP:20260423T205129
CREATED:20190514T181258Z
LAST-MODIFIED:20190514T181343Z
UID:21994-1560499200-1560513600@sindissetima.org.br
SUMMARY:ATO UNIFICADO Em Defesa da Educação e contra reforma da Previdência
DESCRIPTION:A Federação Nacional dos Trabalhadores do Judiciário Federal e Ministério Público da União – Fenajufe orienta a participação de suas Entidades Filiadas e convoca os (as) Trabalhadores (as) do Judiciário Federal e Ministério Público da União para que somem forças nos atos contra a destruição da previdência\, em conjunto com educadores e estudantes na Greve Nacional da Educação no dia 15 de maio\, como forma de preparação da Greve Geral contra a reforma da Previdência\, convocada pelas Centrais Sindicais para 14 de junho\, deliberação aprovada pela categoria no 10º Congrejufe.
URL:https://sindissetima.org.br/event/ato-unificado-em-defesa-da-educacao-e-contra-reforma-da-previdencia/
LOCATION:Praça da Bandeira
END:VEVENT
END:VCALENDAR