BEGIN:VCALENDAR
VERSION:2.0
PRODID:-//SINDISSÉTIMA - Sindicato dos Servidores da 7ª Região da Justiça do Trabalho - ECPv6.15.1.1//NONSGML v1.0//EN
CALSCALE:GREGORIAN
METHOD:PUBLISH
X-WR-CALNAME:SINDISSÉTIMA - Sindicato dos Servidores da 7ª Região da Justiça do Trabalho
X-ORIGINAL-URL:https://sindissetima.org.br
X-WR-CALDESC:Eventos para SINDISSÉTIMA - Sindicato dos Servidores da 7ª Região da Justiça do Trabalho
REFRESH-INTERVAL;VALUE=DURATION:PT1H
X-Robots-Tag:noindex
X-PUBLISHED-TTL:PT1H
BEGIN:VTIMEZONE
TZID:America/Sao_Paulo
BEGIN:STANDARD
TZOFFSETFROM:-0300
TZOFFSETTO:-0300
TZNAME:-03
DTSTART:20200101T000000
END:STANDARD
END:VTIMEZONE
BEGIN:VEVENT
DTSTART;TZID=America/Sao_Paulo:20221220T060000
DTEND;TZID=America/Sao_Paulo:20221231T190000
DTSTAMP:20260423T142747
CREATED:20210322T124706Z
LAST-MODIFIED:20220721T114946Z
UID:27186-1671516000-1672513200@sindissetima.org.br
SUMMARY:Recesso
DESCRIPTION:
URL:https://sindissetima.org.br/event/recesso/
END:VEVENT
BEGIN:VEVENT
DTSTART;VALUE=DATE:20221208
DTEND;VALUE=DATE:20221209
DTSTAMP:20260423T142747
CREATED:20210322T124535Z
LAST-MODIFIED:20220721T114905Z
UID:27184-1670457600-1670543999@sindissetima.org.br
SUMMARY:Dia da Justiça - Feriado (Fortaleza e Interior)
DESCRIPTION:
URL:https://sindissetima.org.br/event/dia-da-justica-feriado-fortaleza-e-interior/
END:VEVENT
BEGIN:VEVENT
DTSTART;VALUE=DATE:20221115
DTEND;VALUE=DATE:20221116
DTSTAMP:20260423T142747
CREATED:20210322T124407Z
LAST-MODIFIED:20220721T115038Z
UID:27182-1668470400-1668556799@sindissetima.org.br
SUMMARY:Proclamação da República - Feriado (Fortaleza e Interior)
DESCRIPTION:
URL:https://sindissetima.org.br/event/proclamacao-da-republica-feriado-fortaleza-e-interior/
END:VEVENT
BEGIN:VEVENT
DTSTART;VALUE=DATE:20221102
DTEND;VALUE=DATE:20221103
DTSTAMP:20260423T142747
CREATED:20210322T124318Z
LAST-MODIFIED:20220721T115106Z
UID:27180-1667347200-1667433599@sindissetima.org.br
SUMMARY:Dia de Finados - Feriado (Fortaleza e Interior)
DESCRIPTION:
URL:https://sindissetima.org.br/event/dia-de-finados-feriado-fortaleza-e-interior/
END:VEVENT
BEGIN:VEVENT
DTSTART;VALUE=DATE:20221101
DTEND;VALUE=DATE:20221102
DTSTAMP:20260423T142747
CREATED:20210322T124159Z
LAST-MODIFIED:20220721T115001Z
UID:27178-1667260800-1667347199@sindissetima.org.br
SUMMARY:Dia de Todos os Santos - Feriado (Fortaleza e Interior)
DESCRIPTION:
URL:https://sindissetima.org.br/event/dia-de-todos-os-santos-feriado-fortaleza-e-interior/
END:VEVENT
BEGIN:VEVENT
DTSTART;VALUE=DATE:20221031
DTEND;VALUE=DATE:20221101
DTSTAMP:20260423T142747
CREATED:20210322T123509Z
LAST-MODIFIED:20220721T115145Z
UID:27176-1667174400-1667260799@sindissetima.org.br
SUMMARY:Dia do Servidor Público (28) - Feriado (Fortaleza e Interior)
DESCRIPTION:
URL:https://sindissetima.org.br/event/dia-do-servidor-publico-28-feriado-fortaleza-e-interior/
END:VEVENT
BEGIN:VEVENT
DTSTART;VALUE=DATE:20221012
DTEND;VALUE=DATE:20221013
DTSTAMP:20260423T142747
CREATED:20210322T123403Z
LAST-MODIFIED:20220721T115228Z
UID:27174-1665532800-1665619199@sindissetima.org.br
SUMMARY:Dia de N. Sra. Aparecida - Feriado (Fortaleza e Interior)
DESCRIPTION:
URL:https://sindissetima.org.br/event/dia-de-n-sra-aparecida-feriado-fortaleza-e-interior/
END:VEVENT
BEGIN:VEVENT
DTSTART;VALUE=DATE:20220907
DTEND;VALUE=DATE:20220908
DTSTAMP:20260423T142747
CREATED:20210322T123230Z
LAST-MODIFIED:20220721T115304Z
UID:27172-1662508800-1662595199@sindissetima.org.br
SUMMARY:Dia da Independência do Brasil - Feriado (Fortaleza e Interior)
DESCRIPTION:
URL:https://sindissetima.org.br/event/dia-da-independencia-do-brasil-feriado-fortaleza-e-interior/
END:VEVENT
BEGIN:VEVENT
DTSTART;VALUE=DATE:20220815
DTEND;VALUE=DATE:20220816
DTSTAMP:20260423T142747
CREATED:20220721T115835Z
LAST-MODIFIED:20220721T115848Z
UID:30619-1660521600-1660607999@sindissetima.org.br
SUMMARY:Dia de N. Sra da Assunção - Feriado (Fortaleza)
DESCRIPTION:
URL:https://sindissetima.org.br/event/dia-de-n-sra-da-assuncao-feriado-fortaleza/
END:VEVENT
BEGIN:VEVENT
DTSTART;VALUE=DATE:20220812
DTEND;VALUE=DATE:20220813
DTSTAMP:20260423T142747
CREATED:20210322T122917Z
LAST-MODIFIED:20220721T115345Z
UID:27170-1660262400-1660348799@sindissetima.org.br
SUMMARY:Dia da Criação dos Cursos Jurídicos (11) - Feriado (Fortaleza e Interior)
DESCRIPTION:
URL:https://sindissetima.org.br/event/dia-da-criacao-dos-cursos-juridicos-11-feriado-fortaleza-e-interior/
END:VEVENT
BEGIN:VEVENT
DTSTART;VALUE=DATE:20220806
DTEND;VALUE=DATE:20220808
DTSTAMP:20260423T142747
CREATED:20220721T120125Z
LAST-MODIFIED:20220721T120125Z
UID:30622-1659744000-1659916799@sindissetima.org.br
SUMMARY:Encontro do Coletivo Nacional de Saúde da Fenajufe – ConSaúde
DESCRIPTION:
URL:https://sindissetima.org.br/event/encontro-do-coletivo-nacional-de-saude-da-fenajufe-consaude/
END:VEVENT
BEGIN:VEVENT
DTSTART;VALUE=DATE:20220803
DTEND;VALUE=DATE:20220804
DTSTAMP:20260423T142747
CREATED:20220721T115632Z
LAST-MODIFIED:20220721T115632Z
UID:30617-1659484800-1659571199@sindissetima.org.br
SUMMARY:Apagão do Judiciário e MPU
DESCRIPTION:Paralisação pela recomposição das perdas.
URL:https://sindissetima.org.br/event/apagao-do-judiciario-e-mpu/
END:VEVENT
BEGIN:VEVENT
DTSTART;VALUE=DATE:20220730
DTEND;VALUE=DATE:20220801
DTSTAMP:20260423T142747
CREATED:20220721T120205Z
LAST-MODIFIED:20220721T120205Z
UID:30624-1659139200-1659311999@sindissetima.org.br
SUMMARY:1º Encontro Nacional da Fenajufe com Servidores e Servidoras de TI
DESCRIPTION:
URL:https://sindissetima.org.br/event/1o-encontro-nacional-da-fenajufe-com-servidores-e-servidoras-de-ti/
END:VEVENT
BEGIN:VEVENT
DTSTART;TZID=America/Sao_Paulo:20220702T190000
DTEND;TZID=America/Sao_Paulo:20220702T233000
DTSTAMP:20260423T142747
CREATED:20220721T120319Z
LAST-MODIFIED:20220721T120319Z
UID:30626-1656788400-1656804600@sindissetima.org.br
SUMMARY:Arraiá do Sindissétima
DESCRIPTION:
URL:https://sindissetima.org.br/event/arraia-do-sindissetima/
END:VEVENT
BEGIN:VEVENT
DTSTART;VALUE=DATE:20220616
DTEND;VALUE=DATE:20220617
DTSTAMP:20260423T142747
CREATED:20210512T142207Z
LAST-MODIFIED:20220721T115455Z
UID:27508-1655337600-1655423999@sindissetima.org.br
SUMMARY:Corpus Christi (Feriado) - Fortaleza e Interior
DESCRIPTION:
URL:https://sindissetima.org.br/event/corpus-christi-feriado-fortaleza-e-interior/
END:VEVENT
BEGIN:VEVENT
DTSTART;VALUE=DATE:20220421
DTEND;VALUE=DATE:20220422
DTSTAMP:20260423T142747
CREATED:20210322T122506Z
LAST-MODIFIED:20220721T115520Z
UID:27168-1650499200-1650585599@sindissetima.org.br
SUMMARY:Tiradentes - Feriado (Fortaleza e Interior)
DESCRIPTION:
URL:https://sindissetima.org.br/event/tiradentes-feriado-fortaleza-e-interior/
END:VEVENT
BEGIN:VEVENT
DTSTART;TZID=America/Sao_Paulo:20210331T050000
DTEND;TZID=America/Sao_Paulo:20210404T233000
DTSTAMP:20260423T142747
CREATED:20210322T122353Z
LAST-MODIFIED:20210322T122353Z
UID:27166-1617166800-1617579000@sindissetima.org.br
SUMMARY:Semana Santa - Feriado (Fortaleza e Interior)
DESCRIPTION:
URL:https://sindissetima.org.br/event/semana-santa-feriado-fortaleza-e-interior/
END:VEVENT
BEGIN:VEVENT
DTSTART;VALUE=DATE:20210325
DTEND;VALUE=DATE:20210326
DTSTAMP:20260423T142747
CREATED:20210322T121434Z
LAST-MODIFIED:20210322T122220Z
UID:27156-1616630400-1616716799@sindissetima.org.br
SUMMARY:Data Magna do Ceará - Feriado (Fortaleza e Interior)
DESCRIPTION:
URL:https://sindissetima.org.br/event/data-magna-do-ceara/
END:VEVENT
BEGIN:VEVENT
DTSTART;VALUE=DATE:20210319
DTEND;VALUE=DATE:20210320
DTSTAMP:20260423T142747
CREATED:20210322T122012Z
LAST-MODIFIED:20210322T122147Z
UID:27162-1616112000-1616198399@sindissetima.org.br
SUMMARY:Dia de São José - Feriado (Aracati\, Caucaia\, Eusébio\, Fortaleza\, Iguatu\, Maracanaú\, Limoeiro do Norte\, Quixadá\, Tianguá)
DESCRIPTION:
URL:https://sindissetima.org.br/event/dia-de-sao-jose-feriado/
END:VEVENT
BEGIN:VEVENT
DTSTART;VALUE=DATE:20210217
DTEND;VALUE=DATE:20210218
DTSTAMP:20260423T142747
CREATED:20210322T125228Z
LAST-MODIFIED:20210322T125228Z
UID:27194-1613520000-1613606399@sindissetima.org.br
SUMMARY:Cinzas - Feriado (Fortaleza e Interior)
DESCRIPTION:
URL:https://sindissetima.org.br/event/cinzas-feriado-fortaleza-e-interior/
END:VEVENT
BEGIN:VEVENT
DTSTART;TZID=America/Sao_Paulo:20210215T060000
DTEND;TZID=America/Sao_Paulo:20210216T190000
DTSTAMP:20260423T142747
CREATED:20210322T125150Z
LAST-MODIFIED:20210322T125150Z
UID:27192-1613368800-1613502000@sindissetima.org.br
SUMMARY:Carnaval - Feriado (Fortaleza e Interior)
DESCRIPTION:
URL:https://sindissetima.org.br/event/carnaval-feriado-fortaleza-e-interior/
END:VEVENT
BEGIN:VEVENT
DTSTART;TZID=America/Sao_Paulo:20210101T060000
DTEND;TZID=America/Sao_Paulo:20210106T190000
DTSTAMP:20260423T142747
CREATED:20210322T124945Z
LAST-MODIFIED:20210322T124945Z
UID:27190-1609480800-1609959600@sindissetima.org.br
SUMMARY:Recesso
DESCRIPTION:
URL:https://sindissetima.org.br/event/recesso-2/
END:VEVENT
BEGIN:VEVENT
DTSTART;VALUE=DATE:20210101
DTEND;VALUE=DATE:20210102
DTSTAMP:20260423T142747
CREATED:20210322T124846Z
LAST-MODIFIED:20210322T124846Z
UID:27188-1609459200-1609545599@sindissetima.org.br
SUMMARY:Confraternização Universal - Feriado (Fortaleza e Interior)
DESCRIPTION:
URL:https://sindissetima.org.br/event/confraternizacao-universal-feriado-fortaleza-e-interior/
END:VEVENT
BEGIN:VEVENT
DTSTART;TZID=America/Sao_Paulo:20201205T080000
DTEND;TZID=America/Sao_Paulo:20201205T170000
DTSTAMP:20260423T142747
CREATED:20200130T180306Z
LAST-MODIFIED:20200130T180320Z
UID:24150-1607155200-1607187600@sindissetima.org.br
SUMMARY:Reunião Ampliadinha ou Ampliada da Fenajufe
DESCRIPTION:
URL:https://sindissetima.org.br/event/reuniao-ampliadinha-ou-ampliada-da-fenajufe/
END:VEVENT
BEGIN:VEVENT
DTSTART;TZID=America/Sao_Paulo:20201204T080000
DTEND;TZID=America/Sao_Paulo:20201204T170000
DTSTAMP:20260423T142747
CREATED:20200130T180233Z
LAST-MODIFIED:20200130T180233Z
UID:24148-1607068800-1607101200@sindissetima.org.br
SUMMARY:Reunião Ordinária da Diretoria Executiva da Fenajufe
DESCRIPTION:
URL:https://sindissetima.org.br/event/reuniao-ordinaria-da-diretoria-executiva-da-fenajufe-4/
END:VEVENT
BEGIN:VEVENT
DTSTART;TZID=America/Sao_Paulo:20201128T080000
DTEND;TZID=America/Sao_Paulo:20201129T170000
DTSTAMP:20260423T142747
CREATED:20200130T180145Z
LAST-MODIFIED:20200130T180145Z
UID:24146-1606550400-1606669200@sindissetima.org.br
SUMMARY:Encontro do Coletivo de Mulheres
DESCRIPTION:
URL:https://sindissetima.org.br/event/encontro-do-coletivo-de-mulheres/
END:VEVENT
BEGIN:VEVENT
DTSTART;TZID=America/Sao_Paulo:20200912T080000
DTEND;TZID=America/Sao_Paulo:20200912T170000
DTSTAMP:20260423T142747
CREATED:20200130T180112Z
LAST-MODIFIED:20200130T180112Z
UID:24144-1599897600-1599930000@sindissetima.org.br
SUMMARY:Reunião Ampliadinha ou Ampliada
DESCRIPTION:
URL:https://sindissetima.org.br/event/reuniao-ampliadinha-ou-ampliada/
END:VEVENT
BEGIN:VEVENT
DTSTART;TZID=America/Sao_Paulo:20200911T080000
DTEND;TZID=America/Sao_Paulo:20200911T170000
DTSTAMP:20260423T142747
CREATED:20200130T180029Z
LAST-MODIFIED:20200130T180029Z
UID:24142-1599811200-1599843600@sindissetima.org.br
SUMMARY:Reunião Ordinária da Diretoria Executiva da Fenajufe
DESCRIPTION:
URL:https://sindissetima.org.br/event/reuniao-ordinaria-da-diretoria-executiva-da-fenajufe-3/
END:VEVENT
BEGIN:VEVENT
DTSTART;TZID=America/Sao_Paulo:20200626T080000
DTEND;TZID=America/Sao_Paulo:20200628T170000
DTSTAMP:20260423T142747
CREATED:20200130T175852Z
LAST-MODIFIED:20200130T175852Z
UID:24140-1593158400-1593363600@sindissetima.org.br
SUMMARY:XXIII Plenária Nacional da Fenajufe
DESCRIPTION:
URL:https://sindissetima.org.br/event/xxiii-plenaria-nacional-da-fenajufe/
END:VEVENT
BEGIN:VEVENT
DTSTART;TZID=America/Sao_Paulo:20200625T080000
DTEND;TZID=America/Sao_Paulo:20200625T170000
DTSTAMP:20260423T142747
CREATED:20200130T175823Z
LAST-MODIFIED:20200130T175823Z
UID:24138-1593072000-1593104400@sindissetima.org.br
SUMMARY:Reunião Ordinária da Diretoria Executiva da Fenajufe
DESCRIPTION:
URL:https://sindissetima.org.br/event/reuniao-ordinaria-da-diretoria-executiva-da-fenajufe-2/
END:VEVENT
END:VCALENDAR